BEGIN:VCALENDAR
VERSION:2.0
METHOD:PUBLISH
PRODID:-//Accessible Web Design//My Calendar//http://www.joedolson.com//v//EN';
BEGIN:VEVENT
UID:904-102
LOCATION:Stadtteilladen Streitstraße 60  Berlin  13587
SUMMARY:Spieletreff
DTSTAMP:20241218T170000
ORGANIZER;CN=admin:MAILTO:dk@morethanshelters.org
DTSTART:20241218T170000
DTEND:20241218T190000
CATEGORIES:Stadtteilladen
URL;VALUE=URI:https://benn-hakenfelde.de/mc-events/spieletreff-2/?mc_id=904
DESCRIPTION:
END:VEVENT
END:VCALENDAR