BEGIN:VCALENDAR
VERSION:2.0
METHOD:PUBLISH
PRODID:-//Accessible Web Design//My Calendar//http://www.joedolson.com//v//EN';
BEGIN:VEVENT
UID:743-91
LOCATION:Stadtteilladen Streitstraße 60  Berlin  13587
SUMMARY:Vegetarische Pasten
DTSTAMP:20231123T183000
ORGANIZER;CN=admin:MAILTO:dk@morethanshelters.org
DTSTART:20231123T183000
DTEND:20231123T200000
CATEGORIES:Stadtteilladen - Event
URL;VALUE=URI:https://benn-hakenfelde.de/mc-events/vegetarische-pasten-4/?mc_id=743
DESCRIPTION:
END:VEVENT
END:VCALENDAR