BEGIN:VCALENDAR
VERSION:2.0
METHOD:PUBLISH
PRODID:-//Accessible Web Design//My Calendar//http://www.joedolson.com//v//EN';
BEGIN:VEVENT
UID:740-88
LOCATION:Stadtteilladen Streitstraße 60  Berlin  13587
SUMMARY:Kerzen Workshop
DTSTAMP:20231106T160000
ORGANIZER;CN=admin:MAILTO:dk@morethanshelters.org
DTSTART:20231106T160000
DTEND:20231106T173000
CATEGORIES:Stadtteilladen - Event
URL;VALUE=URI:https://benn-hakenfelde.de/mc-events/kerzen-workshop/?mc_id=740
DESCRIPTION:
END:VEVENT
END:VCALENDAR