BEGIN:VCALENDAR
VERSION:2.0
METHOD:PUBLISH
PRODID:-//Accessible Web Design//My Calendar//http://www.joedolson.com//v//EN';
BEGIN:VEVENT
UID:739-87
LOCATION:Stadtbibliothek Spandau Bezirkszentralbibliothek Carl-Schurz-Str. 13  Berlin  13597
SUMMARY:Lesung: Aus dem Bauch heraus
DTSTAMP:20231010T190000
ORGANIZER;CN=admin:MAILTO:dk@morethanshelters.org
DTSTART:20231010T190000
DTEND:20231010T200000
CATEGORIES:Stadtbibliothek Spandau
URL;VALUE=URI:https://benn-hakenfelde.de/mc-events/lesung-aus-dem-bauch-heraus/?mc_id=739
DESCRIPTION:
END:VEVENT
END:VCALENDAR