BEGIN:VCALENDAR
VERSION:2.0
METHOD:PUBLISH
PRODID:-//Accessible Web Design//My Calendar//http://www.joedolson.com//v//EN';
BEGIN:VEVENT
UID:738-86
LOCATION:Stadtteilladen Streitstraße 60  Berlin  13587
SUMMARY:Gespräch: Straßenbahn Spandau
DTSTAMP:20231011T183000
ORGANIZER;CN=admin:MAILTO:dk@morethanshelters.org
DTSTART:20231011T183000
DTEND:20231011T200000
CATEGORIES:Stadtteilladen - Event
URL;VALUE=URI:https://benn-hakenfelde.de/mc-events/gespraech-strassenbahn-spandau/?mc_id=738
DESCRIPTION:
END:VEVENT
END:VCALENDAR