BEGIN:VCALENDAR
VERSION:2.0
METHOD:PUBLISH
PRODID:-//Accessible Web Design//My Calendar//http://www.joedolson.com//v//EN';
BEGIN:VEVENT
UID:737-85
LOCATION:Schiffsfahrtsufer Höhe Sedanstr. (südlich Dischingerbrücke)
SUMMARY:Kiezrundgang: Unter Spandaus Brücken
DTSTAMP:20230927T173000
ORGANIZER;CN=admin:MAILTO:dk@morethanshelters.org
DTSTART:20230927T173000
DTEND:20230927T183000
CATEGORIES:Stadtteilladen - Event
URL;VALUE=URI:https://benn-hakenfelde.de/mc-events/kiezrundgang-unter-spandaus-bruecken/?mc_id=737
DESCRIPTION:
END:VEVENT
END:VCALENDAR