BEGIN:VCALENDAR
VERSION:2.0
METHOD:PUBLISH
PRODID:-//Accessible Web Design//My Calendar//http://www.joedolson.com//v//EN';
BEGIN:VEVENT
UID:733-81
LOCATION:Familienzentrum Villa NOVA Rauchstraße 66  Berlin  13587
SUMMARY:Yoga Workshop
DTSTAMP:20231022T110000
ORGANIZER;CN=admin:MAILTO:dk@morethanshelters.org
DTSTART:20231022T110000
DTEND:20231022T130000
CATEGORIES:Stadtteilladen - Event
URL;VALUE=URI:https://benn-hakenfelde.de/mc-events/yoga-workshop/?mc_id=733
DESCRIPTION:
END:VEVENT
END:VCALENDAR