BEGIN:VCALENDAR
VERSION:2.0
METHOD:PUBLISH
PRODID:-//Accessible Web Design//My Calendar//http://www.joedolson.com//v//EN';
BEGIN:VEVENT
UID:695-80
LOCATION:Gemeindesaal Schuckertdamm 336-340  Berlin  13629
SUMMARY:Theaterworkshop
DTSTAMP:20230912T183000
ORGANIZER;CN=admin:MAILTO:dk@morethanshelters.org
DTSTART:20230912T183000
DTEND:20231222T193000
CATEGORIES:ev-gemeinde
URL;VALUE=URI:https://benn-hakenfelde.de/mc-events/theaterworkshop/?mc_id=695
DESCRIPTION:
END:VEVENT
END:VCALENDAR