BEGIN:VCALENDAR
VERSION:2.0
METHOD:PUBLISH
PRODID:-//Accessible Web Design//My Calendar//http://www.joedolson.com//v//EN';
BEGIN:VEVENT
UID:694-79
LOCATION:Stadtteilladen Streitstraße 60  Berlin  13587
SUMMARY:Ausstellung: Unser Kiez
DTSTAMP:20230904T160000
ORGANIZER;CN=admin:MAILTO:dk@morethanshelters.org
DTSTART:20230904T160000
DTEND:20230904T170000
CATEGORIES:Stadtteilladen - Event
URL;VALUE=URI:https://benn-hakenfelde.de/mc-events/ausstellung-unser-kiez/?mc_id=694
DESCRIPTION:
END:VEVENT
END:VCALENDAR