BEGIN:VCALENDAR
VERSION:2.0
METHOD:PUBLISH
PRODID:-//Accessible Web Design//My Calendar//http://www.joedolson.com//v//EN';
BEGIN:VEVENT
UID:688-73
LOCATION:Gemeinschaftsunterkunft Rauchstraße 22  Berlin  13587
SUMMARY:Workshop: Pflanzen Bestäubung
DTSTAMP:20230823T160000
ORGANIZER;CN=admin:MAILTO:dk@morethanshelters.org
DTSTART:20230823T160000
DTEND:20230823T180000
CATEGORIES:BENN Hakenfelde Veranstaltung
URL;VALUE=URI:https://benn-hakenfelde.de/mc-events/workshop-pflanzen-bestaeubung/?mc_id=688
DESCRIPTION:
END:VEVENT
END:VCALENDAR