BEGIN:VCALENDAR
VERSION:2.0
METHOD:PUBLISH
PRODID:-//Accessible Web Design//My Calendar//http://www.joedolson.com//v//EN';
BEGIN:VEVENT
UID:683-68
LOCATION:Stadtteilladen Streitstraße 60  Berlin  13587
SUMMARY:Die Straßenbahn in Spandau
DTSTAMP:20230906T183000
ORGANIZER;CN=admin:MAILTO:dk@morethanshelters.org
DTSTART:20230906T183000
DTEND:20230906T200000
CATEGORIES:Stadtteilladen - Event
URL;VALUE=URI:https://benn-hakenfelde.de/mc-events/die-strassenbahn-in-spandau/?mc_id=683
DESCRIPTION:
END:VEVENT
END:VCALENDAR