BEGIN:VCALENDAR
VERSION:2.0
METHOD:PUBLISH
PRODID:-//Accessible Web Design//My Calendar//http://www.joedolson.com//v//EN';
BEGIN:VEVENT
UID:682-67
LOCATION:Cautiusstr./Schönwalder Allee
SUMMARY:Hinaus ins Jrüne
DTSTAMP:20230823T183000
ORGANIZER;CN=admin:MAILTO:dk@morethanshelters.org
DTSTART:20230823T183000
DTEND:20230823T200000
CATEGORIES:Stadtteilladen - Event
URL;VALUE=URI:https://benn-hakenfelde.de/mc-events/hinaus-ins-jruene/?mc_id=682
DESCRIPTION:
END:VEVENT
END:VCALENDAR