BEGIN:VCALENDAR
VERSION:2.0
METHOD:PUBLISH
PRODID:-//Accessible Web Design//My Calendar//http://www.joedolson.com//v//EN';
BEGIN:VEVENT
UID:679-38
LOCATION:Stadtteilladen Streitstraße 60  Berlin  13587
SUMMARY:Fahrradtour: Wasserstadt
DTSTAMP:20230629T183000
ORGANIZER;CN=admin:MAILTO:dk@morethanshelters.org
DTSTART:20230629T183000
DTEND:20230629T203000
CATEGORIES:Stadtteilladen - Event
URL;VALUE=URI:https://benn-hakenfelde.de/mc-events/fahrradtour-wasserstadt/?mc_id=679
DESCRIPTION:Neubaugebiete Spandauer Wasserstadt - eine geführte Fahrradtour durch Hakenfelde über Eiswerder an die Waterkant mit Dr.Norbert Kopytziok Donnerstag 29.Juni 2023 18:30-20:00  Treffpunkt: Stadtteilladen &nbsp;
END:VEVENT
END:VCALENDAR