BEGIN:VCALENDAR
VERSION:2.0
METHOD:PUBLISH
PRODID:-//Accessible Web Design//My Calendar//http://www.joedolson.com//v//EN';
BEGIN:VEVENT
UID:657-62
LOCATION:Stadtteilladen Streitstraße 60  Berlin  13587
SUMMARY:Malgruppe
DTSTAMP:20231208T143000
ORGANIZER;CN=admin:MAILTO:dk@morethanshelters.org
DTSTART:20231208T143000
DTEND:20231208T173000
CATEGORIES:Stadtteilladen
URL;VALUE=URI:https://benn-hakenfelde.de/mc-events/malgruppe/?mc_id=657
DESCRIPTION:
END:VEVENT
END:VCALENDAR