BEGIN:VCALENDAR
VERSION:2.0
METHOD:PUBLISH
PRODID:-//Accessible Web Design//My Calendar//http://www.joedolson.com//v//EN';
BEGIN:VEVENT
UID:611-54
LOCATION:Familienzentrum Villa NOVA Rauchstraße 66  Berlin  13587
SUMMARY:Bauen im Garten
DTSTAMP:20230724T150000
ORGANIZER;CN=admin:MAILTO:dk@morethanshelters.org
DTSTART:20230724T150000
DTEND:20230724T180000
CATEGORIES:Familienzentrum Villa NOVA
URL;VALUE=URI:https://benn-hakenfelde.de/mc-events/bauen-im-garten-3/?mc_id=611
DESCRIPTION:Bauen im Garten mit ChrisImmer Montags von 15-18Uhr bei Familienzentrum Villa NOVA- kostenlose Veranstaltung - ohne Anmeldung
END:VEVENT
END:VCALENDAR