BEGIN:VCALENDAR
VERSION:2.0
METHOD:PUBLISH
PRODID:-//Accessible Web Design//My Calendar//http://www.joedolson.com//v//EN';
BEGIN:VEVENT
UID:606-49
LOCATION:Familienzentrum Villa NOVA Rauchstraße 66  Berlin  13587
SUMMARY:Into the wild
DTSTAMP:20230719T100000
ORGANIZER;CN=admin:MAILTO:dk@morethanshelters.org
DTSTART:20230719T100000
DTEND:20230719T130000
CATEGORIES:Familienzentrum Villa NOVA - Event
URL;VALUE=URI:https://benn-hakenfelde.de/mc-events/into-the-wild/?mc_id=606
DESCRIPTION:
END:VEVENT
END:VCALENDAR