BEGIN:VCALENDAR
VERSION:2.0
METHOD:PUBLISH
PRODID:-//Accessible Web Design//My Calendar//http://www.joedolson.com//v//EN';
BEGIN:VEVENT
UID:605-48
LOCATION:Reformationsplatz Spandau Reformationsplatz
SUMMARY:Dinner der Vielfalt
DTSTAMP:20230704T180000
ORGANIZER;CN=admin:MAILTO:dk@morethanshelters.org
DTSTART:20230704T180000
DTEND:20230704T190000
CATEGORIES:Netzwerk Spandau
URL;VALUE=URI:https://benn-hakenfelde.de/mc-events/dinner-der-vielfalt/?mc_id=605
DESCRIPTION:
END:VEVENT
END:VCALENDAR