BEGIN:VCALENDAR
VERSION:2.0
METHOD:PUBLISH
PRODID:-//Accessible Web Design//My Calendar//http://www.joedolson.com//v//EN';
BEGIN:VEVENT
UID:604-47
LOCATION:Stadtteilladen Streitstraße 60  Berlin  13587
SUMMARY:Repaircafé
DTSTAMP:20231206T160000
ORGANIZER;CN=admin:MAILTO:dk@morethanshelters.org
DTSTART:20231206T160000
DTEND:20231206T190000
CATEGORIES:Stadtteilladen
URL;VALUE=URI:https://benn-hakenfelde.de/mc-events/repaircafe/?mc_id=604
DESCRIPTION:
END:VEVENT
END:VCALENDAR