BEGIN:VCALENDAR
VERSION:2.0
METHOD:PUBLISH
PRODID:-//Accessible Web Design//My Calendar//http://www.joedolson.com//v//EN';
BEGIN:VEVENT
UID:576-37
LOCATION:Stadtteilladen Streitstraße 60  Berlin  13587
SUMMARY:Vegetarische Pasten
DTSTAMP:20230720T183000
ORGANIZER;CN=admin:MAILTO:dk@morethanshelters.org
DTSTART:20230720T183000
DTEND:20230720T200000
CATEGORIES:Stadtteilladen - Event
URL;VALUE=URI:https://benn-hakenfelde.de/mc-events/vegetarische-pasten/?mc_id=576
DESCRIPTION:Vegetarische Pasen selbermachen Donnerstag 20.Juli 2023  18:30-20:00 Uhr  Stadtteilladen
END:VEVENT
END:VCALENDAR