BEGIN:VCALENDAR
VERSION:2.0
METHOD:PUBLISH
PRODID:-//Accessible Web Design//My Calendar//http://www.joedolson.com//v//EN';
BEGIN:VEVENT
UID:570-32
LOCATION:Galerie David-Francke-Str. 1 Galerie David-Francke-Str. 1  Berlin   13587
SUMMARY:Nähkurs
DTSTAMP:20231207T140000
ORGANIZER;CN=admin:MAILTO:dk@morethanshelters.org
DTSTART:20231207T140000
DTEND:20231207T160000
CATEGORIES:heimaten - GIZ &amp; berlinovo
URL;VALUE=URI:https://benn-hakenfelde.de/mc-events/naehkurs/?mc_id=570
DESCRIPTION:heimaten - Nähkurs Donnerstag: 14-16:00 Uhr  Veranstaltungsort: Galerie David-Francke-Str.1 Ab dem 08.06.2023! Ohne Anmeldung Nähmaschine und Stoffe vorhanden Nachbar*innen kennenlernen Ansprechperson: Anastasiia Jansen Kommt vorbei!
END:VEVENT
END:VCALENDAR