BEGIN:VCALENDAR
VERSION:2.0
METHOD:PUBLISH
PRODID:-//Accessible Web Design//My Calendar//http://www.joedolson.com//v//EN';
BEGIN:VEVENT
UID:459-27
LOCATION:Kinder- &amp; Jugendeinrichtung BDP-Koeltzpark Am Koeltzeoark 4  Berlin  13585
SUMMARY:Kiez-FahrRadAktion
DTSTAMP:20230603T140000
ORGANIZER;CN=admin:MAILTO:dk@morethanshelters.org
DTSTART:20230603T140000
DTEND:20230603T170000
CATEGORIES:Life e.V.
URL;VALUE=URI:https://benn-hakenfelde.de/mc-events/kiez-fahrradaktion/?mc_id=459
DESCRIPTION:Am 3. Juni ist Welt-Fahrradtag: Datum: 3. Juni 2023 (14:00-17:00) Ort: Kinder- &amp; Jugendeinrichtung BDP Koeltzpark (Am Koeltzpark 4, 13585 Berlin) Alle können vorbeikommen! Kostenfreie Veranstaltung und ohne Anmeldung! Wir veranstalten dazu eine RadAktion Mit unserem Umweltprojekt „Neustadt Nutzt Mehrfach“ wollen wir euch dazu anregen Dinge mehrfach zu benutzen und dadurch die Umwelt und Ressourcen&hellip;
END:VEVENT
END:VCALENDAR