BEGIN:VCALENDAR
VERSION:2.0
METHOD:PUBLISH
PRODID:-//Accessible Web Design//My Calendar//http://www.joedolson.com//v//EN';
BEGIN:VEVENT
UID:37-7
LOCATION:Rathaus Spandau  Carl-Schulz-Straße 2-6  Berlin  13597
SUMMARY:Ehrenamtsbörse
DTSTAMP:20230610T120000
ORGANIZER;CN=admin:MAILTO:dk@morethanshelters.org
DTSTART:20230610T120000
DTEND:20230610T160000
CATEGORIES:Bezirksamt Spandau
URL;VALUE=URI:https://benn-hakenfelde.de/mc-events/ehrenamtsboerse/?mc_id=37
DESCRIPTION:Ehrenamtsbörse Spandau 2023! Kommt vorbei!
END:VEVENT
END:VCALENDAR