BEGIN:VCALENDAR
VERSION:2.0
METHOD:PUBLISH
PRODID:-//Accessible Web Design//My Calendar//http://www.joedolson.com//v//EN';
BEGIN:VEVENT
UID:36-6
LOCATION:Rathaus Spandau  Carl-Schulz-Straße 2-6  Berlin  13597
SUMMARY:NOW THAT WE´RE HERE.
DTSTAMP:20230526T170000
ORGANIZER;CN=admin:MAILTO:dk@morethanshelters.org
DTSTART:20230526T170000
DTEND:20230526T200000
CATEGORIES:Bezirksamt Spandau
URL;VALUE=URI:https://benn-hakenfelde.de/mc-events/now-that-were-here/?mc_id=36
DESCRIPTION:Ausstellungseröffnung 26.05.2023 17:00-20:00 Uhr Eine Fotoausstellung von Jonathan Benjamin Small.
END:VEVENT
END:VCALENDAR