BEGIN:VCALENDAR
VERSION:2.0
METHOD:PUBLISH
PRODID:-//Accessible Web Design//My Calendar//http://www.joedolson.com//v//EN';
BEGIN:VEVENT
UID:312-22
LOCATION:heimaten bei berlinovo Rauchstraße 29  Berlin  13587
SUMMARY:Sprachcafé
DTSTAMP:20231213T110000
ORGANIZER;CN=admin:MAILTO:dk@morethanshelters.org
DTSTART:20231213T110000
DTEND:20231213T120000
CATEGORIES:heimaten - GIZ &amp; berlinovo
URL;VALUE=URI:https://benn-hakenfelde.de/mc-events/sprachcafe-2/?mc_id=312
DESCRIPTION:heimaten Sprachcafé - austauschen, sprechen, Tee trinken Ohne Anmeldung, kommt vorbei! &nbsp; Dienstag: 14:00 - 15:00 Uhr Mittwoch: 11:00 - 12:00 und 15:00 -16:00 Uhr Freitag: 11:00 - 12:00 und 14:00 - 15:00 Uhr Ansprechperson: Anastasiia Jannsen (anastasiia.jannsen@giz.berlin)
END:VEVENT
END:VCALENDAR