BEGIN:VCALENDAR
VERSION:2.0
METHOD:PUBLISH
PRODID:-//Accessible Web Design//My Calendar//http://www.joedolson.com//v//EN';
BEGIN:VEVENT
UID:252-20
LOCATION:heimaten bei berlinovo Rauchstraße 29  Berlin  13587
SUMMARY:Deutschkurs
DTSTAMP:20231207T180000
ORGANIZER;CN=admin:MAILTO:dk@morethanshelters.org
DTSTART:20231207T180000
DTEND:20231207T190000
CATEGORIES:heimaten - GIZ &amp; berlinovo
URL;VALUE=URI:https://benn-hakenfelde.de/mc-events/deutschkurs/?mc_id=252
DESCRIPTION:heimaten Kostenloser Deutschkurs! Ohne Anmeldung, kommt vorbei! Annäherungen an die deutsche Sprache alle Niveaus Deutsch sprechen und Grammatik Grundlagen lernen immer außer in den Ferien Ansprechpersonen: Hannes, Gerda Conrad
END:VEVENT
END:VCALENDAR