BEGIN:VCALENDAR
VERSION:2.0
METHOD:PUBLISH
PRODID:-//Accessible Web Design//My Calendar//http://www.joedolson.com//v//EN';
BEGIN:VEVENT
UID:2138-234
LOCATION:Paul-Schneider-Haus Schönwalder Straße 23  Berlin  13585
SUMMARY:Zuckerfest
DTSTAMP:20260321T120000
ORGANIZER;CN=admin:MAILTO:dk@morethanshelters.org
DTSTART:20260321T120000
DTEND:20260321T140000
CATEGORIES:BENN Hakenfelde Veranstaltung, Paul-Schneider-Haus
URL;VALUE=URI:https://benn-hakenfelde.de/mc-events/zuckerfest-2/?mc_id=2138
DESCRIPTION:Am Samstag, den 21. März, laden wir euch und die gesamte Nachbarschaft herzlich zum Zuckerfest ein!Das Ende der Fastenzeit ist ein besonderer Anlass, der in vielen Kulturen und Familien gefeiert wird. Unter den Namen Zuckerfest, Ramazan Bayramı, Eid al-Fitr oder Ураза байрам kommen Menschen zusammen, um Freude zu teilen.Kommt einfach vorbei und genießt mit uns ein buntes Kulturangebot, leckeres Essen und gute Musik! Wir wollen gemeinsam feiern und die Zeit im Kiez genießen.Wann? Samstag, den 21. März 2026, 12:00 bis 14:00 UhrWo? Paul-Schneider-Haus, Schönwalder Straße 23, 13585 BerlinEintritt: Die Teilnahme ist kostenlos!Wir freuen uns auf ein fröhliches Fest mit euch allen. Eine Anmeldung ist nicht erforderlich – kommt einfach vorbei!Habt ihr Fragen? Das Team von BENN Hakenfelde ist gerne für euch da:Telefon:  49 176 24753769E-Mail: benn-hakenfelde@mts-socialdesign.comEuer BENN Team
END:VEVENT
END:VCALENDAR