BEGIN:VCALENDAR
VERSION:2.0
METHOD:PUBLISH
PRODID:-//Accessible Web Design//My Calendar//http://www.joedolson.com//v//EN';
BEGIN:VEVENT
UID:2137-233
LOCATION:Havel-Grundschule Goltzstraße 25  Berlin  13587
SUMMARY:Graffiti- und Tanzworkshop
DTSTAMP:20260312T100000
ORGANIZER;CN=admin:MAILTO:dk@morethanshelters.org
DTSTART:20260312T100000
DTEND:20260312T130000
CATEGORIES:BENN Hakenfelde Veranstaltung
URL;VALUE=URI:https://benn-hakenfelde.de/mc-events/graffiti-und-tanzworkshop/?mc_id=2137
DESCRIPTION:Liebe Nachbarinnen und Nachbarn,wir laden euch herzlich zum Graffiti- und Tanzworkshop ein – im Rahmen des Spandauer Aktionsmärz 2026.Unter dem Motto „Mit Farbe und Beats für Vielfalt“ sprühen wir gemeinsam Graffiti und tanzen Hip-Hop. Der Workshop richtet sich an Kinder aus der Willkommensklasse und bietet Raum für Kreativität, Bewegung und jede Menge Spaß.Die Teilnahme ist kostenlos.Eine Anmeldung ist erforderlich.Termine:19.02.202626.02.202605.03.202612.03.202619.03.2026Uhrzeit:10:00–13:00 UhrWo?Havel-Grundschule(Goltzstraße 25, 13587 Berlin)Anmeldung unter:📞  49 176 24753769📧 benn-hakenfelde@mts-socialdesign.com
END:VEVENT
END:VCALENDAR