BEGIN:VCALENDAR
VERSION:2.0
METHOD:PUBLISH
PRODID:-//Accessible Web Design//My Calendar//http://www.joedolson.com//v//EN';
BEGIN:VEVENT
UID:2110-232
LOCATION:Stadtteilladen Streitstraße 60  Berlin  13587
SUMMARY:AMV Mieter- und Verbraucherberatung
DTSTAMP:20260217T110000
ORGANIZER;CN=admin:MAILTO:dk@morethanshelters.org
DTSTART:20260217T110000
DTEND:20260217T130000
CATEGORIES:Stadtteilladen
URL;VALUE=URI:https://benn-hakenfelde.de/mc-events/amv-mieter-und-verbraucherberatung/?mc_id=2110
DESCRIPTION:
END:VEVENT
END:VCALENDAR