BEGIN:VCALENDAR
VERSION:2.0
METHOD:PUBLISH
PRODID:-//Accessible Web Design//My Calendar//http://www.joedolson.com//v//EN';
BEGIN:VEVENT
UID:2052-230
LOCATION:Stadtteilladen Streitstraße 60  Berlin  13587
SUMMARY:Kreativ im Kiez
DTSTAMP:20260216T150000
ORGANIZER;CN=admin:MAILTO:dk@morethanshelters.org
DTSTART:20260216T150000
DTEND:20260216T170000
CATEGORIES:Stadtteilladen
URL;VALUE=URI:https://benn-hakenfelde.de/mc-events/kreativ-im-kiez-2/?mc_id=2052
DESCRIPTION:
END:VEVENT
END:VCALENDAR