BEGIN:VCALENDAR
VERSION:2.0
METHOD:PUBLISH
PRODID:-//Accessible Web Design//My Calendar//http://www.joedolson.com//v//EN';
BEGIN:VEVENT
UID:2023-229
LOCATION:Stadtteilladen Streitstraße 60  Berlin  13587
SUMMARY:Ambulante Babylotsin
DTSTAMP:20260219T090000
ORGANIZER;CN=admin:MAILTO:dk@morethanshelters.org
DTSTART:20260219T090000
DTEND:20260219T120000
CATEGORIES:Stadtteilladen
URL;VALUE=URI:https://benn-hakenfelde.de/mc-events/ambulante-babylotsin/?mc_id=2023
DESCRIPTION:Unterstützung und Beratung
END:VEVENT
END:VCALENDAR