BEGIN:VCALENDAR
VERSION:2.0
METHOD:PUBLISH
PRODID:-//Accessible Web Design//My Calendar//http://www.joedolson.com//v//EN';
BEGIN:VEVENT
UID:1989-228
LOCATION:Stadtteilladen Streitstraße 60  Berlin  13587
SUMMARY:Zumba für Frauen
DTSTAMP:20260216T180000
ORGANIZER;CN=admin:MAILTO:dk@morethanshelters.org
DTSTART:20260216T180000
DTEND:20260216T190000
CATEGORIES:Stadtteilladen
URL;VALUE=URI:https://benn-hakenfelde.de/mc-events/zumba-fuer-frauen-2/?mc_id=1989
DESCRIPTION:
END:VEVENT
END:VCALENDAR