BEGIN:VCALENDAR
VERSION:2.0
METHOD:PUBLISH
PRODID:-//Accessible Web Design//My Calendar//http://www.joedolson.com//v//EN';
BEGIN:VEVENT
UID:1936-224
LOCATION:Stadtteilladen Streitstraße 60  Berlin  13587
SUMMARY:Nachbarschaftschor
DTSTAMP:20260424T180000
ORGANIZER;CN=admin:MAILTO:dk@morethanshelters.org
DTSTART:20260424T180000
DTEND:20260424T193000
CATEGORIES:Stadtteilladen
URL;VALUE=URI:https://benn-hakenfelde.de/mc-events/nachbarschaftschor/?mc_id=1936
DESCRIPTION:
END:VEVENT
END:VCALENDAR