BEGIN:VCALENDAR
VERSION:2.0
METHOD:PUBLISH
PRODID:-//Accessible Web Design//My Calendar//http://www.joedolson.com//v//EN';
BEGIN:VEVENT
UID:1916-223
LOCATION:Stadtteilladen Streitstraße 60  Berlin  13587
SUMMARY:Grosser Spieltag
DTSTAMP:20260201T140000
ORGANIZER;CN=admin:MAILTO:dk@morethanshelters.org
DTSTART:20260201T140000
DTEND:20260201T180000
CATEGORIES:Stadtteilladen
URL;VALUE=URI:https://benn-hakenfelde.de/mc-events/grosser-spieltag-5/?mc_id=1916
DESCRIPTION:
END:VEVENT
END:VCALENDAR