BEGIN:VCALENDAR
VERSION:2.0
METHOD:PUBLISH
PRODID:-//Accessible Web Design//My Calendar//http://www.joedolson.com//v//EN';
BEGIN:VEVENT
UID:1905-222
LOCATION:Stadtteilladen Streitstraße 60  Berlin  13587
SUMMARY:Malgruppe Hakenfelde
DTSTAMP:20260424T143000
ORGANIZER;CN=admin:MAILTO:dk@morethanshelters.org
DTSTART:20260424T143000
DTEND:20260424T173000
CATEGORIES:Stadtteilladen
URL;VALUE=URI:https://benn-hakenfelde.de/mc-events/malgruppe-hakenfelde/?mc_id=1905
DESCRIPTION:
END:VEVENT
END:VCALENDAR