BEGIN:VCALENDAR
VERSION:2.0
METHOD:PUBLISH
PRODID:-//Accessible Web Design//My Calendar//http://www.joedolson.com//v//EN';
BEGIN:VEVENT
UID:1793-216
LOCATION:Stadtteilladen Streitstraße 60  Berlin  13587
SUMMARY:Neujahrsempfang im Stadtteilladen Hakenfelde
DTSTAMP:20260117T143000
ORGANIZER;CN=admin:MAILTO:dk@morethanshelters.org
DTSTART:20260117T143000
DTEND:20260117T170000
CATEGORIES:Stadtteilladen
URL;VALUE=URI:https://benn-hakenfelde.de/mc-events/neujahrsempfang-im-stadtteilladen-hakenfelde/?mc_id=1793
DESCRIPTION:
END:VEVENT
END:VCALENDAR