BEGIN:VCALENDAR
VERSION:2.0
METHOD:PUBLISH
PRODID:-//Accessible Web Design//My Calendar//http://www.joedolson.com//v//EN';
BEGIN:VEVENT
UID:1786-202
LOCATION:
SUMMARY:Garten- und Grillnachmittage
DTSTAMP:20250919T130000
ORGANIZER;CN=admin:MAILTO:dk@morethanshelters.org
DTSTART:20250919T130000
DTEND:20250919T150000
CATEGORIES:BENN Hakenfelde Veranstaltung
URL;VALUE=URI:https://benn-hakenfelde.de/mc-events/garten-und-grillnachmittage/?mc_id=1786
DESCRIPTION:
END:VEVENT
END:VCALENDAR