BEGIN:VCALENDAR
VERSION:2.0
METHOD:PUBLISH
PRODID:-//Accessible Web Design//My Calendar//http://www.joedolson.com//v//EN';
BEGIN:VEVENT
UID:1775-199
LOCATION:Reformationsplatz (an der Nikolaikirche), Altstadt Spandau
SUMMARY:Dinner der Vielfalt (Netzwerk für Demokratie, Toleranz, Respekt und Vielfalt Spandau)
DTSTAMP:20250912T170000
ORGANIZER;CN=admin:MAILTO:dk@morethanshelters.org
DTSTART:20250912T170000
DTEND:20250912T193000
CATEGORIES:Bezirksamt Spandau
URL;VALUE=URI:https://benn-hakenfelde.de/mc-events/dinner-der-vielfalt-netzwerk-fuer-demokratie-toleranz-respekt-und-vielfalt-spandau/?mc_id=1775
DESCRIPTION:Am 12. September lädt das Netzwerk für Demokratie, Toleranz, Respekt und Vielfalt Spandau zusammen mit der Evangelischen Kirche Spandau zu einer langen Tafel vor der St. Nikolai-Kirche in der Spandauer Altstadt ein. Dort entsteht ein Ort mit Platz für viele Menschen, um bei Essen und Musik ins Gespräch zu kommen – über Zusammenhalt und ein&hellip;
END:VEVENT
END:VCALENDAR