BEGIN:VCALENDAR
VERSION:2.0
METHOD:PUBLISH
PRODID:-//Accessible Web Design//My Calendar//http://www.joedolson.com//v//EN';
BEGIN:VEVENT
UID:1774-198
LOCATION:
SUMMARY:Nachbarschaftlicher Austausch auf dem Lutherplatz (QM Spandauer Neustadt)
DTSTAMP:20250905T120000
ORGANIZER;CN=admin:MAILTO:dk@morethanshelters.org
DTSTART:20250905T120000
DTEND:20250905T140000
CATEGORIES:QM Spandauer Neustadt
URL;VALUE=URI:https://benn-hakenfelde.de/mc-events/nachbarschaftlicher-austausch-auf-dem-lutherplatz-qm-spandauer-neustadt/?mc_id=1774
DESCRIPTION:
END:VEVENT
END:VCALENDAR