BEGIN:VCALENDAR
VERSION:2.0
METHOD:PUBLISH
PRODID:-//Accessible Web Design//My Calendar//http://www.joedolson.com//v//EN';
BEGIN:VEVENT
UID:1773-197
LOCATION:Marktplatz in der Altstadt Spandau
SUMMARY:Soziales, Gesundes, Internationales und ENGAGIERTES Spandau 2025
DTSTAMP:20250920T110000
ORGANIZER;CN=admin:MAILTO:dk@morethanshelters.org
DTSTART:20250920T110000
DTEND:20250920T163000
CATEGORIES:Bezirksamt Spandau
URL;VALUE=URI:https://benn-hakenfelde.de/mc-events/soziales-gesundes-internationales-und-engagiertes-spandau-2025/?mc_id=1773
DESCRIPTION:
END:VEVENT
END:VCALENDAR