BEGIN:VCALENDAR
VERSION:2.0
METHOD:PUBLISH
PRODID:-//Accessible Web Design//My Calendar//http://www.joedolson.com//v//EN';
BEGIN:VEVENT
UID:1769-193
LOCATION:heimaten bei berlinovo Rauchstraße 29  Berlin  13587
SUMMARY:Frauenfrühstück (Heimaten berlinovo)
DTSTAMP:20250912T100000
ORGANIZER;CN=admin:MAILTO:dk@morethanshelters.org
DTSTART:20250912T100000
DTEND:20250912T120000
CATEGORIES:heimaten - Event, heimaten - GIZ &amp; berlinovo
URL;VALUE=URI:https://benn-hakenfelde.de/mc-events/frauenfruehstueck-heimaten-berlinovo/?mc_id=1769
DESCRIPTION:
END:VEVENT
END:VCALENDAR