BEGIN:VCALENDAR
VERSION:2.0
METHOD:PUBLISH
PRODID:-//Accessible Web Design//My Calendar//http://www.joedolson.com//v//EN';
BEGIN:VEVENT
UID:1764-188
LOCATION:An der Havelspitze 5, 13587 Berlin Havelspitze 5   Berlin  13587
SUMMARY:Freiluftkino an der Havelspitze
DTSTAMP:20250904T193000
ORGANIZER;CN=admin:MAILTO:dk@morethanshelters.org
DTSTART:20250904T193000
DTEND:20250904T214500
CATEGORIES:BENN Hakenfelde Veranstaltung
URL;VALUE=URI:https://benn-hakenfelde.de/mc-events/freiluftkino-an-der-havelspitze-2/?mc_id=1764
DESCRIPTION:In diesem Spätsommer lädt BENN Hakenfelde alle Nachbarinnen und Nachbarn zu einem kostenlosen Freiluftkino-Erlebnis ein. Eine Anmeldung ist nicht notwendig. Do. 04.09.2025, 19:30 – 21:45 Uhr Was? Der Film des Abends: „WALL·E“ (Deutsch ohne Untertitel, FSK 0) Ein Poetischer Animationsfilm über Umweltzerstörung und Einsamkeit. Wo? An der Havelspitze 5, 13587 Berlin Es bietet sich an,&hellip;
END:VEVENT
END:VCALENDAR