BEGIN:VCALENDAR
VERSION:2.0
METHOD:PUBLISH
PRODID:-//Accessible Web Design//My Calendar//http://www.joedolson.com//v//EN';
BEGIN:VEVENT
UID:1762-186
LOCATION:An der Havelspitze 5, 13587 Berlin Havelspitze 5   Berlin  13587
SUMMARY:Freiluftkino an der Havelspitze
DTSTAMP:20250821T200000
ORGANIZER;CN=admin:MAILTO:dk@morethanshelters.org
DTSTART:20250821T200000
DTEND:20250821T220000
CATEGORIES:BENN Hakenfelde Veranstaltung
URL;VALUE=URI:https://benn-hakenfelde.de/mc-events/freiluftkino-an-der-havelspitze/?mc_id=1762
DESCRIPTION:In diesem Spätsommer lädt BENN Hakenfelde alle Nachbarinnen und Nachbarn zu einem kostenlosen Freiluftkino-Erlebnis ein. Eine Anmeldung ist nicht notwendig. Do. 21.08.2025, 20:00 – 22:00 Uhr Was? Der Film des Abends: „Das Mädchen Wadjda“ (Arabisch mit deutschen Untertiteln, FSK 0) Ein mutiger Spielfilm über ein Mädchen, das sich ein Fahrrad wünscht - und damit gegen&hellip;
END:VEVENT
END:VCALENDAR