BEGIN:VCALENDAR
VERSION:2.0
METHOD:PUBLISH
PRODID:-//Accessible Web Design//My Calendar//http://www.joedolson.com//v//EN';
BEGIN:VEVENT
UID:1761-185
LOCATION:heimaten bei berlinovo Rauchstraße 29  Berlin  13587
SUMMARY:Leseclub
DTSTAMP:20241226T160000
ORGANIZER;CN=admin:MAILTO:dk@morethanshelters.org
DTSTART:20241226T160000
DTEND:20241226T180000
CATEGORIES:heimaten - GIZ &amp; berlinovo
URL;VALUE=URI:https://benn-hakenfelde.de/mc-events/leseclub-2/?mc_id=1761
DESCRIPTION:Alle Kinder zwischen 6 und 12 Jahren sind im Leseclub herzlich willkommen! Es warten Bücher, Spiele, Zeitschriften, Tablets und viele spannende und kreative Aktionen auf euch.
END:VEVENT
END:VCALENDAR