BEGIN:VCALENDAR
VERSION:2.0
METHOD:PUBLISH
PRODID:-//Accessible Web Design//My Calendar//http://www.joedolson.com//v//EN';
BEGIN:VEVENT
UID:1709-178
LOCATION:Stadtteilladen Streitstraße 60  Berlin  13587
SUMMARY:Vegetarisch Kochen
DTSTAMP:20241012T183000
ORGANIZER;CN=admin:MAILTO:dk@morethanshelters.org
DTSTART:20241012T183000
DTEND:20241012T200000
CATEGORIES:Stadtteilladen - Event
URL;VALUE=URI:https://benn-hakenfelde.de/mc-events/vegetarisch-kochen/?mc_id=1709
DESCRIPTION:
END:VEVENT
END:VCALENDAR