BEGIN:VCALENDAR
VERSION:2.0
METHOD:PUBLISH
PRODID:-//Accessible Web Design//My Calendar//http://www.joedolson.com//v//EN';
BEGIN:VEVENT
UID:1695-173
LOCATION:Stadtteilladen Streitstraße 60  Berlin  13587
SUMMARY:Cremes &amp; Co. Selber machen
DTSTAMP:20240921T160000
ORGANIZER;CN=admin:MAILTO:dk@morethanshelters.org
DTSTART:20240921T160000
DTEND:20240921T180000
CATEGORIES:Stadtteilladen - Event
URL;VALUE=URI:https://benn-hakenfelde.de/mc-events/cremes-co-selber-machen/?mc_id=1695
DESCRIPTION:
END:VEVENT
END:VCALENDAR