BEGIN:VCALENDAR
VERSION:2.0
METHOD:PUBLISH
PRODID:-//Accessible Web Design//My Calendar//http://www.joedolson.com//v//EN';
BEGIN:VEVENT
UID:1692-170
LOCATION:Lutherstraße 14
SUMMARY:Autofreier Tag in der Neustadt
DTSTAMP:20240920T150000
ORGANIZER;CN=admin:MAILTO:dk@morethanshelters.org
DTSTART:20240920T150000
DTEND:20240920T190000
CATEGORIES:QM Spandauer Neustadt
URL;VALUE=URI:https://benn-hakenfelde.de/mc-events/autofreier-tag-in-der-neustadt/?mc_id=1692
DESCRIPTION:
END:VEVENT
END:VCALENDAR