BEGIN:VCALENDAR
VERSION:2.0
METHOD:PUBLISH
PRODID:-//Accessible Web Design//My Calendar//http://www.joedolson.com//v//EN';
BEGIN:VEVENT
UID:1691-169
LOCATION:Familienzentrum Lasiuszeile 6
SUMMARY:Flohmarkt für Kinder
DTSTAMP:20240923T150000
ORGANIZER;CN=admin:MAILTO:dk@morethanshelters.org
DTSTART:20240923T150000
DTEND:20240923T173000
CATEGORIES:Stadtteilladen
URL;VALUE=URI:https://benn-hakenfelde.de/mc-events/flohmarkt-fuer-kinder/?mc_id=1691
DESCRIPTION:
END:VEVENT
END:VCALENDAR