BEGIN:VCALENDAR
VERSION:2.0
METHOD:PUBLISH
PRODID:-//Accessible Web Design//My Calendar//http://www.joedolson.com//v//EN';
BEGIN:VEVENT
UID:1670-163
LOCATION:WATERKANT Berlin Havelpromenade/Schwelelowseestraße 29
SUMMARY:Tanzabend am Wasser
DTSTAMP:20240817T190000
ORGANIZER;CN=admin:MAILTO:dk@morethanshelters.org
DTSTART:20240817T190000
DTEND:20240817T220000
CATEGORIES:Gewobag - Event
URL;VALUE=URI:https://benn-hakenfelde.de/mc-events/tanzabend-am-wasser/?mc_id=1670
DESCRIPTION:
END:VEVENT
END:VCALENDAR