BEGIN:VCALENDAR
VERSION:2.0
METHOD:PUBLISH
PRODID:-//Accessible Web Design//My Calendar//http://www.joedolson.com//v//EN';
BEGIN:VEVENT
UID:1666-159
LOCATION:Stadtteilladen Streitstraße 60  Berlin  13587
SUMMARY:Zumba für Frauen
DTSTAMP:20241209T180000
ORGANIZER;CN=admin:MAILTO:dk@morethanshelters.org
DTSTART:20241209T180000
DTEND:20241209T193000
CATEGORIES:Stadtteilladen - Event
URL;VALUE=URI:https://benn-hakenfelde.de/mc-events/zumba-fuer-frauen/?mc_id=1666
DESCRIPTION:
END:VEVENT
END:VCALENDAR