BEGIN:VCALENDAR
VERSION:2.0
METHOD:PUBLISH
PRODID:-//Accessible Web Design//My Calendar//http://www.joedolson.com//v//EN';
BEGIN:VEVENT
UID:165-17
LOCATION:heimaten bei berlinovo Rauchstraße 29  Berlin  13587
SUMMARY:Schachkurs (ab 6J.)
DTSTAMP:20231207T150000
ORGANIZER;CN=admin:MAILTO:dk@morethanshelters.org
DTSTART:20231207T150000
DTEND:20231207T170000
CATEGORIES:heimaten - GIZ &amp; berlinovo
URL;VALUE=URI:https://benn-hakenfelde.de/mc-events/schachkurs-ab-6j/?mc_id=165
DESCRIPTION:heimaten - Wollt ihr mit uns die Schachsprache erlernen? "Schach ist das schnellste Spiel der Welt, weil man in jeder Sekunde tausend Gedanken ordnen muss." Donnerstags: 15:00 - 17:00 Uhr &gt; Kinder ab 6 Jahren Donnerstags: 17:00 - 19:00 Uhr &gt; Jugendliche und Erwachsene Freies Spielen für alle interessierten Kinder und Jugendliche unter Anleitung für&hellip;
END:VEVENT
END:VCALENDAR